BEGIN:VCALENDAR
VERSION:2.0
PRODID:-//ChamberMaster//Event Calendar 2.0//EN
METHOD:PUBLISH
X-PUBLISHED-TTL:P3D
REFRESH-INTERVAL:P3D
CALSCALE:GREGORIAN
BEGIN:VEVENT
DTSTART:20150207T133000Z
DTEND:20150207T160000Z
X-MICROSOFT-CDO-ALLDAYEVENT:FALSE
SUMMARY:Ability Walk at Grapevine Mills
DESCRIPTION:Ability Connection Texas - Ability Walk is a family-oriented event created to raise awareness of the challenges faced by children and adults with disabilities. This year's Ability Walk will feature a leisurely stroll around Grapevine Mills Mall. Participants walking alone or in teams\, raise money for Ability Connection\, a leading organization paving the way for adults and children with disabilities. Ability Walk gives teams the chance to "Walk for Independence." After the walk participants will enjoy a family fun Ability Walk Party featuring sponsors and community partners. The Party will include plenty of music\, games\, food and prizes!
X-ALT-DESC;FMTTYPE=text/html:Ability Connection Texas - Ability Walk is a family-oriented event created to raise awareness of the challenges faced by children and adults with disabilities. This year&#39\;s Ability Walk will feature a leisurely stroll around Grapevine Mills Mall. Participants walking alone or in teams\, raise money for Ability Connection\, a leading organization paving the way for adults and children with disabilities. Ability Walk gives teams the chance to &quot\;Walk for Independence.&quot\; After the walk participants will enjoy a family fun Ability Walk Party featuring sponsors and community partners. The Party will include plenty of music\, games\, food and prizes!
LOCATION:Grapevine Mills Mall 3000 Grapevine Mills Pkwy Grapevine\, TX 76051
UID:e.770.169653
SEQUENCE:3
DTSTAMP:20260419T201227Z
URL:http://grapevine.chambermaster.com/events/details/ability-walk-at-grapevine-mills-02-07-2015-169653
END:VEVENT

END:VCALENDAR
