BEGIN:VCALENDAR
VERSION:2.0
PRODID:-//ChamberMaster//Event Calendar 2.0//EN
METHOD:PUBLISH
X-PUBLISHED-TTL:P3D
REFRESH-INTERVAL:P3D
CALSCALE:GREGORIAN
BEGIN:VEVENT
DTSTART;VALUE=DATE:20140725
DTEND;VALUE=DATE:20141001
TRANSP:TRANSPARENT
X-MICROSOFT-CDO-ALLDAYEVENT:TRUE
SUMMARY:Evolving Universe: A Smithsonian Exhibition
DESCRIPTION:Take a mind-bending journey with us from present-day Earth to the far reaches of space and the distant past. Explore how stars and galaxies even the universe itself change from birth to maturity to death\, much like living things on Earth.\n\n\n\nClick here for more information
X-ALT-DESC;FMTTYPE=text/html:Take a mind-bending journey with us from present-day Earth to the far reaches of space and the distant past. Explore how stars and galaxies&mdash\;even the universe itself&mdash\;change from birth to maturity to death\, much like living things on Earth.<br />\n<br />\n<strong><a href="http://www.grapevinetexasusa.com/includes/calendar-of-events/Evolving-Universe-A-Smithsonian-Exhibition/18619/" target="_blank">Click here for more information</a></strong>
LOCATION:Grapevine Convention & Visitors Bureau Tower Gallery 636 S. Main St. Grapevine\, TX 76051
UID:e.770.167998
SEQUENCE:3
DTSTAMP:20260423T233423Z
URL:http://grapevine.chambermaster.com/events/details/evolving-universe-a-smithsonian-exhibition-07-25-2014-167998
END:VEVENT

END:VCALENDAR
