BEGIN:VCALENDAR
VERSION:2.0
PRODID:-//ChamberMaster//Event Calendar 2.0//EN
METHOD:PUBLISH
X-PUBLISHED-TTL:P3D
REFRESH-INTERVAL:P3D
CALSCALE:GREGORIAN
BEGIN:VEVENT
DTSTART:20150213T230000Z
DTEND:20150214T020000Z
X-MICROSOFT-CDO-ALLDAYEVENT:FALSE
SUMMARY:FRIDAY NIGHT FLITES
DESCRIPTION:Bear Creek Spirits & Wine\n\nFriday Night Flites\n\n5pm - 8pm\n\n"Mardi Gras Night"
X-ALT-DESC;FMTTYPE=text/html:Bear Creek Spirits &amp\; Wine<br />\nFriday Night Flites<br />\n5pm - 8pm<br />\n&quot\;Mardi Gras Night&quot\;
LOCATION:Bear Creek Spirits & Wine 7101 Colleyville Blvd. Colleyville\, TX 76034
UID:e.770.170352
SEQUENCE:3
DTSTAMP:20260425T015356Z
URL:http://grapevine.chambermaster.com/events/details/friday-night-flites-02-13-2015-170352
END:VEVENT

END:VCALENDAR
