BEGIN:VCALENDAR
VERSION:2.0
PRODID:-//ChamberMaster//Event Calendar 2.0//EN
METHOD:PUBLISH
X-PUBLISHED-TTL:P3D
REFRESH-INTERVAL:P3D
CALSCALE:GREGORIAN
BEGIN:VEVENT
DTSTART:20150220T230000Z
DTEND:20150221T020000Z
X-MICROSOFT-CDO-ALLDAYEVENT:FALSE
SUMMARY:Friday Night Flites
DESCRIPTION:Bear Creek Spirits & Wine\n\nFriday Night Flites\n\n5:00pm - 8:00pm\n\n"Featuring Peirano Estates"
X-ALT-DESC;FMTTYPE=text/html:Bear Creek Spirits &amp\; Wine<br />\nFriday Night Flites<br />\n5:00pm - 8:00pm<br />\n&quot\;Featuring Peirano Estates&quot\;
LOCATION:Bear Creek Spirits & Wine 7101 Colleyville Blvd. Colleyville\, Tx 76034
UID:e.770.170367
SEQUENCE:3
DTSTAMP:20260420T054438Z
URL:http://grapevine.chambermaster.com/events/details/friday-night-flites-02-20-2015-170367
END:VEVENT

END:VCALENDAR
