BEGIN:VCALENDAR
VERSION:2.0
PRODID:-//ChamberMaster//Event Calendar 2.0//EN
METHOD:PUBLISH
X-PUBLISHED-TTL:P3D
REFRESH-INTERVAL:P3D
CALSCALE:GREGORIAN
BEGIN:VEVENT
DTSTART:20141005T003000Z
DTEND:20141005T033000Z
X-MICROSOFT-CDO-ALLDAYEVENT:FALSE
SUMMARY:Grapevine Opry
DESCRIPTION:For more information on the show\, visit http://www.thegrapevineopryshow.com.
X-ALT-DESC;FMTTYPE=text/html:For more information on the show\, visit <strong><a href="http://http://www.thegrapevineopryshow.com/" target="_blank">http://www.thegrapevineopryshow.com</a></strong>.
LOCATION:Palace Arts Center 300 S. Main St.
UID:e.770.168155
SEQUENCE:3
DTSTAMP:20260422T041116Z
URL:http://grapevine.chambermaster.com/events/details/grapevine-opry-10-04-2014-168155
END:VEVENT

END:VCALENDAR
