BEGIN:VCALENDAR
VERSION:2.0
PRODID:-//ChamberMaster//Event Calendar 2.0//EN
METHOD:PUBLISH
X-PUBLISHED-TTL:P3D
REFRESH-INTERVAL:P3D
CALSCALE:GREGORIAN
BEGIN:VEVENT
DTSTART:20150502T163000Z
DTEND:20150502T180000Z
X-MICROSOFT-CDO-ALLDAYEVENT:FALSE
SUMMARY:Grapevine YEA! Program Trade Show
DESCRIPTION:Students in the 2014-2015 Grapevine Young Entrepreneurs Academy (YEA!) showcase their businesses to the public at this one-of-a-kind Trade Show.\n\n\n\nCome and learn more about these new Grapevine business and the products and services they offer!
X-ALT-DESC;FMTTYPE=text/html:Students in the 2014-2015 Grapevine Young Entrepreneurs Academy (YEA!) showcase their businesses to the public at this one-of-a-kind Trade Show.<br />\n<br />\nCome and learn more about these new Grapevine business and the products and services they offer!
LOCATION:Grapevine Mills (inside food court) 3000 Grapevine Mills Pkwy. Grapevine\, TX 76051
UID:e.770.170992
SEQUENCE:3
DTSTAMP:20260419T224517Z
URL:http://grapevine.chambermaster.com/events/details/grapevine-yea-program-trade-show-05-02-2015-170992
END:VEVENT

END:VCALENDAR
